BEGIN:VCALENDAR
VERSION:2.0
PRODID:-//eventon.com NONSGML v1.0//EN
BEGIN:VEVENT
UID:69ea234d522c4
DTSTAMP:20260423T134901
DTSTART:20260505T183000Z
DTEND:20260505T235000Z
LOCATION:
SUMMARY:Online Webinar- Taxes in Retirement
DESCRIPTION: Online Webinar- Taxes in Retirement
END:VEVENT
END:VCALENDAR