BEGIN:VCALENDAR
VERSION:2.0
PRODID:-//eventon.com NONSGML v1.0//EN
BEGIN:VEVENT
UID:69ea237c4da20
DTSTAMP:20260423T134948
DTSTART:20260430T183000Z
DTEND:20260430T235000Z
LOCATION:
SUMMARY:Online Webinar- Taxes in Retirement
DESCRIPTION: Online Webinar- Taxes in Retirement
END:VEVENT
END:VCALENDAR