BEGIN:VCALENDAR
VERSION:2.0
PRODID:-//eventon.com NONSGML v1.0//EN
BEGIN:VEVENT
UID:69ea23a885712
DTSTAMP:20260423T135032
DTSTART:20260428T183000Z
DTEND:20260428T235000Z
LOCATION:
SUMMARY:Online Webinar- Taxes in Retirement
DESCRIPTION: Online Webinar- Taxes in Retirement
END:VEVENT
END:VCALENDAR