BEGIN:VCALENDAR
VERSION:2.0
PRODID:-//eventon.com NONSGML v1.0//EN
BEGIN:VEVENT
UID:69ea23f772c34
DTSTAMP:20260423T135151
DTSTART:20260428T120000Z
DTEND:20260428T235000Z
LOCATION:Spurrier's Gridiron Grill 4860 Steve Spurrier Way\,  Gainesville\,  FL 32608
SUMMARY:Taxes in Retirement
DESCRIPTION: Taxes in Retirement
END:VEVENT
END:VCALENDAR