BEGIN:VCALENDAR
VERSION:2.0
PRODID:-//eventon.com NONSGML v1.0//EN
BEGIN:VEVENT
UID:69ea237c37b8e
DTSTAMP:20260423T134948
DTSTART:20260427T110000Z
DTEND:20260427T235000Z
LOCATION:Heritage Financial Office 13500 Progress Blvd Alachua\,  FL 32615
SUMMARY:Economic Outlook
DESCRIPTION: Economic Outlook
END:VEVENT
END:VCALENDAR