BEGIN:VCALENDAR
VERSION:2.0
PRODID:-//eventon.com NONSGML v1.0//EN
BEGIN:VEVENT
UID:69ea23c0d38bb
DTSTAMP:20260423T135056
DTSTART:20260423T183000Z
DTEND:20260423T235000Z
LOCATION:
SUMMARY:Online Webinar- Taxes in Retirement
DESCRIPTION: Online Webinar- Taxes in Retirement
END:VEVENT
END:VCALENDAR